BEGIN:VCALENDAR
PRODID:-//Ben Fortuna//iCal4j 1.0//EN
VERSION:2.0
CALSCALE:GREGORIAN
BEGIN:VTIMEZONE
TZID:Europe/Berlin
LAST-MODIFIED:20201010T011803Z
TZURL:http://tzurl.org/zoneinfo/Europe/Berlin
X-LIC-LOCATION:Europe/Berlin
X-PROLEPTIC-TZNAME:LMT
BEGIN:STANDARD
TZNAME:CET
TZOFFSETFROM:+005328
TZOFFSETTO:+0100
DTSTART:18930401T000000
END:STANDARD
BEGIN:DAYLIGHT
TZNAME:CEST
TZOFFSETFROM:+0100
TZOFFSETTO:+0200
DTSTART:19160430T230000
RDATE:19400401T020000
RDATE:19430329T020000
RDATE:19460414T020000
RDATE:19470406T030000
RDATE:19480418T020000
RDATE:19490410T020000
RDATE:19800406T020000
END:DAYLIGHT
BEGIN:STANDARD
TZNAME:CET
TZOFFSETFROM:+0200
TZOFFSETTO:+0100
DTSTART:19161001T010000
RDATE:19421102T030000
RDATE:19431004T030000
RDATE:19441002T030000
RDATE:19451118T030000
RDATE:19461007T030000
END:STANDARD
BEGIN:DAYLIGHT
TZNAME:CEST
TZOFFSETFROM:+0100
TZOFFSETTO:+0200
DTSTART:19170416T020000
RRULE:FREQ=YEARLY;UNTIL=19180415T010000Z;BYMONTH=4;BYDAY=3MO
END:DAYLIGHT
BEGIN:STANDARD
TZNAME:CET
TZOFFSETFROM:+0200
TZOFFSETTO:+0100
DTSTART:19170917T030000
RRULE:FREQ=YEARLY;UNTIL=19180916T010000Z;BYMONTH=9;BYDAY=3MO
END:STANDARD
BEGIN:DAYLIGHT
TZNAME:CEST
TZOFFSETFROM:+0100
TZOFFSETTO:+0200
DTSTART:19440403T020000
RRULE:FREQ=YEARLY;UNTIL=19450402T010000Z;BYMONTH=4;BYDAY=1MO
END:DAYLIGHT
BEGIN:DAYLIGHT
TZNAME:CEMT
TZOFFSETFROM:+0200
TZOFFSETTO:+0300
DTSTART:19450524T020000
RDATE:19470511T030000
END:DAYLIGHT
BEGIN:DAYLIGHT
TZNAME:CEST
TZOFFSETFROM:+0300
TZOFFSETTO:+0200
DTSTART:19450924T030000
RDATE:19470629T030000
END:DAYLIGHT
BEGIN:STANDARD
TZNAME:CET
TZOFFSETFROM:+0100
TZOFFSETTO:+0100
DTSTART:19460101T000000
RDATE:19800101T000000
END:STANDARD
BEGIN:STANDARD
TZNAME:CET
TZOFFSETFROM:+0200
TZOFFSETTO:+0100
DTSTART:19471005T030000
RRULE:FREQ=YEARLY;UNTIL=19491002T010000Z;BYMONTH=10;BYDAY=1SU
END:STANDARD
BEGIN:STANDARD
TZNAME:CET
TZOFFSETFROM:+0200
TZOFFSETTO:+0100
DTSTART:19800928T030000
RRULE:FREQ=YEARLY;UNTIL=19950924T010000Z;BYMONTH=9;BYDAY=-1SU
END:STANDARD
BEGIN:DAYLIGHT
TZNAME:CEST
TZOFFSETFROM:+0100
TZOFFSETTO:+0200
DTSTART:19810329T020000
RRULE:FREQ=YEARLY;BYMONTH=3;BYDAY=-1SU
END:DAYLIGHT
BEGIN:STANDARD
TZNAME:CET
TZOFFSETFROM:+0200
TZOFFSETTO:+0100
DTSTART:19961027T030000
RRULE:FREQ=YEARLY;BYMONTH=10;BYDAY=-1SU
END:STANDARD
END:VTIMEZONE
BEGIN:VEVENT
DTSTAMP:20260420T205337Z
DTSTART;TZID=Europe/Berlin:20260530T160000
DTEND;TZID=Europe/Berlin:20260530T230000
SUMMARY:BurgBeats - Benefizkonzert auf dem Burghof
CREATED:20260409T072907Z
LAST-MODIFIED:20260410T115026Z
DESCRIPTION:Benefizkonzert zugunsten der „Aktion Freizeit behinderter Jug
 endlicher“ am 30. Mai auf dem Burghof in Erkelenz\n\n16.00 Uhr Einlass\n
 \n17.00 Uhr TrommelWerk\nDass die acht jungen Menschen dieser Percussion
 gruppe alle körperliche und kognitive Beeinträchtigungen haben\, fällt s
 chon lange niemandem mehr auf – sie leben den Beat und präsentieren ihn 
 gekonnt und voller Stolz.\n\n\n\n18.00 Uhr Bucket Boys\n30 Jahre Bandges
 chichte und 16 Alben hat diese Desert-Rock-Band aus Mönchengladbach bere
 its auf dem Buckel. Die ausschließlich eigenen Songs erlangten insgesamt
  21 mal den Wochensieg bei WDR 2. Hier könnt ihr in den „Sound of Desert
  and Dust“ reinhören: www.bucket-boys.com.\n\n\n\n19.30 Uhr Proud Mary\n
 Lieder\, die man kennt\, spielt die Band der Kliniken Maria Hilf aus Mön
 chengladbach. Sie ist seit zwei Jahrzehnten eine feste Größe und weit me
 hr als ein Betriebsprojekt. Ihre Leidenschaft für handgemachte Musik ist
  das Rezept für die perfekte Mischung aus zeitlosem Rock-Klassikern und 
 Pop-Hymnen.\n\n\n\n21.00 Uhr different image project\nMehrfach prämierte
 r Progessive-Rock der von den WDR-2-Hörern zur \"Besten Band im Westen\"
  gewählt und bereits zweimal als \"Beste Progressiveband\" mit dem Deuts
 chen Rock und Pop Preis ausgezeichnet wurde.\n\n\n\nAb 22.00 Uhr Ausklan
 g in Zimmerlautstärke\n\nDer Eintritt ist frei\, für Speis und Trank ist
  gesorgt und alle sind herzlich willkommen!\n\nHinweis: Der Burghof ist 
 leider nicht barrierefrei\, wer Hilfe benötigt\, darf sich sehr gerne an
  das Team wenden.
LOCATION:Burg
X-LOCATION-NAME:Burg
X-STREET-ADDRESS:Dr.-Josef-Hahn-Platz
X-POSTAL-CODE:41812
X-LOCALITY:Erkelenz
X-COUNTRY:Deutschland
ORGANIZER;CN=Isabell Wyes:mailto:isabell@wyes-online.de
X-ORGANIZER-NAME:Isabell Wyes
X-ORGANIZER-EMAIL:isabell@wyes-online.de
X-ORGANIZER-TELEPHONE:017620182194
X-IONAS-CATEGORY:Musik
CATEGORIES:Musik,Fest,Musik
ATTACH;FMTTYPE=image/jpeg:https://www.erkelenz.de/kalender/2026-05-30-bur
 gbeats-benefizkonzert-auf-dem-burghof/burgbeats-final.jpg?cid=rnl.4kfb
UID:45767a5a-d582-48e0-8e0a-8bd722f044b7
END:VEVENT
END:VCALENDAR
