BEGIN:VCALENDAR
PRODID:-//Ben Fortuna//iCal4j 1.0//EN
VERSION:2.0
CALSCALE:GREGORIAN
BEGIN:VTIMEZONE
TZID:Europe/Berlin
LAST-MODIFIED:20201010T011803Z
TZURL:http://tzurl.org/zoneinfo/Europe/Berlin
X-LIC-LOCATION:Europe/Berlin
X-PROLEPTIC-TZNAME:LMT
BEGIN:STANDARD
TZNAME:CET
TZOFFSETFROM:+005328
TZOFFSETTO:+0100
DTSTART:18930401T000000
END:STANDARD
BEGIN:DAYLIGHT
TZNAME:CEST
TZOFFSETFROM:+0100
TZOFFSETTO:+0200
DTSTART:19160430T230000
RDATE:19400401T020000
RDATE:19430329T020000
RDATE:19460414T020000
RDATE:19470406T030000
RDATE:19480418T020000
RDATE:19490410T020000
RDATE:19800406T020000
END:DAYLIGHT
BEGIN:STANDARD
TZNAME:CET
TZOFFSETFROM:+0200
TZOFFSETTO:+0100
DTSTART:19161001T010000
RDATE:19421102T030000
RDATE:19431004T030000
RDATE:19441002T030000
RDATE:19451118T030000
RDATE:19461007T030000
END:STANDARD
BEGIN:DAYLIGHT
TZNAME:CEST
TZOFFSETFROM:+0100
TZOFFSETTO:+0200
DTSTART:19170416T020000
RRULE:FREQ=YEARLY;UNTIL=19180415T010000Z;BYMONTH=4;BYDAY=3MO
END:DAYLIGHT
BEGIN:STANDARD
TZNAME:CET
TZOFFSETFROM:+0200
TZOFFSETTO:+0100
DTSTART:19170917T030000
RRULE:FREQ=YEARLY;UNTIL=19180916T010000Z;BYMONTH=9;BYDAY=3MO
END:STANDARD
BEGIN:DAYLIGHT
TZNAME:CEST
TZOFFSETFROM:+0100
TZOFFSETTO:+0200
DTSTART:19440403T020000
RRULE:FREQ=YEARLY;UNTIL=19450402T010000Z;BYMONTH=4;BYDAY=1MO
END:DAYLIGHT
BEGIN:DAYLIGHT
TZNAME:CEMT
TZOFFSETFROM:+0200
TZOFFSETTO:+0300
DTSTART:19450524T020000
RDATE:19470511T030000
END:DAYLIGHT
BEGIN:DAYLIGHT
TZNAME:CEST
TZOFFSETFROM:+0300
TZOFFSETTO:+0200
DTSTART:19450924T030000
RDATE:19470629T030000
END:DAYLIGHT
BEGIN:STANDARD
TZNAME:CET
TZOFFSETFROM:+0100
TZOFFSETTO:+0100
DTSTART:19460101T000000
RDATE:19800101T000000
END:STANDARD
BEGIN:STANDARD
TZNAME:CET
TZOFFSETFROM:+0200
TZOFFSETTO:+0100
DTSTART:19471005T030000
RRULE:FREQ=YEARLY;UNTIL=19491002T010000Z;BYMONTH=10;BYDAY=1SU
END:STANDARD
BEGIN:STANDARD
TZNAME:CET
TZOFFSETFROM:+0200
TZOFFSETTO:+0100
DTSTART:19800928T030000
RRULE:FREQ=YEARLY;UNTIL=19950924T010000Z;BYMONTH=9;BYDAY=-1SU
END:STANDARD
BEGIN:DAYLIGHT
TZNAME:CEST
TZOFFSETFROM:+0100
TZOFFSETTO:+0200
DTSTART:19810329T020000
RRULE:FREQ=YEARLY;BYMONTH=3;BYDAY=-1SU
END:DAYLIGHT
BEGIN:STANDARD
TZNAME:CET
TZOFFSETFROM:+0200
TZOFFSETTO:+0100
DTSTART:19961027T030000
RRULE:FREQ=YEARLY;BYMONTH=10;BYDAY=-1SU
END:STANDARD
END:VTIMEZONE
BEGIN:VEVENT
DTSTAMP:20260420T021331Z
DTSTART;TZID=Europe/Berlin:20260523T163000
DTEND;TZID=Europe/Berlin:20260525T203000
SUMMARY:Pfingst-Schützenfest in Holzweiler 
CREATED:20260402T093701Z
LAST-MODIFIED:20260402T095508Z
DESCRIPTION:Die St. Sebastianus Schützenbruderschaft Holzweiler e.V. lädt
  zum Pfingst-/Schützenfest 2026 vom 23. bis 26. Mai 2026 ein. Die tradit
 ionellen Festzüge bieten allen Besucher*innen Gelegenheit\, das lebendig
 e Brauchtum und die starke Dorfgemeinschaft in Holzweiler hautnah mitzue
 rleben.\n\n\n\n\nSamstag\, 23.05.2026\n16:30 Uhr - Start: Brüderstraße\n
 \nZugweg: Landstraße\, Holzweilermarkt\, Landstraße\, Niederstraße\, Lan
 dstraße\, Holzweilermarkt\, Titzerstraße\, in der Weidwäsch\, Heinrich- 
 Marten-Straße\, Titzerstraße\, Holzweilermarkt\, Niederstraße\, Nebenstr
 aße\, Im Grünfeld\, Eggerather Weg\, Niederstraße\, Weyer Weg\, Im Grünf
 eld\, Landstraße\n\nSontag\, 24.05.2026\n07:45 Uhr - Start: Brüderstraße
 \n\nZugweg: Landstraße\, Holzweilermarkt\, Landstraße\, Niederstraße\, N
 ebenstraße\, Im Grünfeld\, Eggerather Weg\, Niederstraße\, Weyer Weg\, S
 eilerweg\, Landstraße\, Kirche (Krönungsmesse)\, Niederstraße\, Brüderst
 raße\, Landstraße\, Holzweilermarkt/ Titzerstraße (Denkmal + Parade)\, L
 andstraße\n\nMontag\, 25.05.2026\n08:00 Uhr - Start: Brüderstraße\n\nZug
 weg: Landstraße\, Holzweilermarkt\, Landstraße\, Niederstraße\, Nebenstr
 aße\, Im Grünfeld\, Eggerather Weg\, Niederstraße\, Weyer Weg\, Seilerwe
 g\, Landstraße\, Kirche (Messe)\, Niederstraße\, Brüderstraße\, Landstra
 ße\, Holzweilermarkt/ Titzerstraße\, Landstraße\n\n\n\n\nFeiern Sie mit 
 der Schützenbruderschaft Holzweiler das Pfingstfest 2026!
LOCATION:Holzweiler
X-LOCATION-NAME:Holzweiler
X-ORGANIZER-NAME:St. Sebastianus Schützenbruderschaft Holzweiler e.V
X-IONAS-CATEGORY:Brauchtum/ Kirmes
CATEGORIES:Brauchtum/ Kirmes,Austausch,Fest,Musik
ATTACH;FMTTYPE=image/jpeg:https://www.erkelenz.de/kalender/schuetzenwesen
 /2026-05-23-pfingst-schuetzenfest-in-holzweiler/jana-childrens-carousel-
 6803-1920.jpg?cid=rmx.4k4j
UID:1e5fd583-1599-49e7-8e1e-b9714b23d552
END:VEVENT
END:VCALENDAR
