BEGIN:VCALENDAR
PRODID:-//Ben Fortuna//iCal4j 1.0//EN
VERSION:2.0
CALSCALE:GREGORIAN
BEGIN:VTIMEZONE
TZID:Europe/Berlin
LAST-MODIFIED:20201010T011803Z
TZURL:http://tzurl.org/zoneinfo/Europe/Berlin
X-LIC-LOCATION:Europe/Berlin
X-PROLEPTIC-TZNAME:LMT
BEGIN:STANDARD
TZNAME:CET
TZOFFSETFROM:+005328
TZOFFSETTO:+0100
DTSTART:18930401T000000
END:STANDARD
BEGIN:DAYLIGHT
TZNAME:CEST
TZOFFSETFROM:+0100
TZOFFSETTO:+0200
DTSTART:19160430T230000
RDATE:19400401T020000
RDATE:19430329T020000
RDATE:19460414T020000
RDATE:19470406T030000
RDATE:19480418T020000
RDATE:19490410T020000
RDATE:19800406T020000
END:DAYLIGHT
BEGIN:STANDARD
TZNAME:CET
TZOFFSETFROM:+0200
TZOFFSETTO:+0100
DTSTART:19161001T010000
RDATE:19421102T030000
RDATE:19431004T030000
RDATE:19441002T030000
RDATE:19451118T030000
RDATE:19461007T030000
END:STANDARD
BEGIN:DAYLIGHT
TZNAME:CEST
TZOFFSETFROM:+0100
TZOFFSETTO:+0200
DTSTART:19170416T020000
RRULE:FREQ=YEARLY;UNTIL=19180415T010000Z;BYMONTH=4;BYDAY=3MO
END:DAYLIGHT
BEGIN:STANDARD
TZNAME:CET
TZOFFSETFROM:+0200
TZOFFSETTO:+0100
DTSTART:19170917T030000
RRULE:FREQ=YEARLY;UNTIL=19180916T010000Z;BYMONTH=9;BYDAY=3MO
END:STANDARD
BEGIN:DAYLIGHT
TZNAME:CEST
TZOFFSETFROM:+0100
TZOFFSETTO:+0200
DTSTART:19440403T020000
RRULE:FREQ=YEARLY;UNTIL=19450402T010000Z;BYMONTH=4;BYDAY=1MO
END:DAYLIGHT
BEGIN:DAYLIGHT
TZNAME:CEMT
TZOFFSETFROM:+0200
TZOFFSETTO:+0300
DTSTART:19450524T020000
RDATE:19470511T030000
END:DAYLIGHT
BEGIN:DAYLIGHT
TZNAME:CEST
TZOFFSETFROM:+0300
TZOFFSETTO:+0200
DTSTART:19450924T030000
RDATE:19470629T030000
END:DAYLIGHT
BEGIN:STANDARD
TZNAME:CET
TZOFFSETFROM:+0100
TZOFFSETTO:+0100
DTSTART:19460101T000000
RDATE:19800101T000000
END:STANDARD
BEGIN:STANDARD
TZNAME:CET
TZOFFSETFROM:+0200
TZOFFSETTO:+0100
DTSTART:19471005T030000
RRULE:FREQ=YEARLY;UNTIL=19491002T010000Z;BYMONTH=10;BYDAY=1SU
END:STANDARD
BEGIN:STANDARD
TZNAME:CET
TZOFFSETFROM:+0200
TZOFFSETTO:+0100
DTSTART:19800928T030000
RRULE:FREQ=YEARLY;UNTIL=19950924T010000Z;BYMONTH=9;BYDAY=-1SU
END:STANDARD
BEGIN:DAYLIGHT
TZNAME:CEST
TZOFFSETFROM:+0100
TZOFFSETTO:+0200
DTSTART:19810329T020000
RRULE:FREQ=YEARLY;BYMONTH=3;BYDAY=-1SU
END:DAYLIGHT
BEGIN:STANDARD
TZNAME:CET
TZOFFSETFROM:+0200
TZOFFSETTO:+0100
DTSTART:19961027T030000
RRULE:FREQ=YEARLY;BYMONTH=10;BYDAY=-1SU
END:STANDARD
END:VTIMEZONE
BEGIN:VEVENT
DTSTAMP:20260420T020543Z
DTSTART;TZID=Europe/Berlin:20260523T160000
DTEND;TZID=Europe/Berlin:20260525T180000
SUMMARY:Schützenfest in Lövenich 
CREATED:20260402T083928Z
LAST-MODIFIED:20260402T101605Z
DESCRIPTION:Die St. Sebastianus Schützenbruderschaft Lövenich 1400 e.V. l
 ädt vom 23. bis 25. Mai 2026 zum traditionellen Schützenfest in Lövenich
  ein. An den Festtagen erwartet die Besucher*innen ein abwechslungsreich
 es Programm mit festlichen Umzügen\, gelebtem Brauchtum und geselligem M
 iteinander im Herzen von Lövenich.\n\n\n\n\nSamstag\, 23.05.2026  -   Kr
 anzniederlegung und setzen der Ehrenmaiensetzen  \n\n17:00 Uhr – Start: 
 Hauptstraße 44     \n\nZugweg: Hauptstraße\, In Lövenich\, Pickartzend\,
  Kirchplatz\, Gasberg\, An der Vogelstange\, In Lövenich\, Hauptstraße\,
  Am Vogelsang\, Bruchstraße\, Schweizer Straße \n\n20:00 Uhr     Die Löv
 enicher Partynacht im Festzelt (Schweizer Straße)\n\n\n\n\n\nSonstag\, 2
 4.05.2026   \n\n09:45 Uhr     ökumenischer Gottesdienst im Festzelt (Sch
 weizer Straße)\n\n15:00 Uhr – Festzug\, Start: Kirmesplatz/ Festzelt\n\n
 Zugweg: Schweizerstraße\, Hauptstraße\, An der Hofkirche\, Zum Königsber
 g\, Pickartzend\, Kirchplatz\, Gasberg\, Kirchplatz\, In Lövenich\, Klap
 perstraße\, Schweizer Straße\n\n\n\n\nMontag\, 25.05.2026 - Vogelschuss 
 ab 13 Uhr im Festzelt\n\n\n\n\nKommen Sie vorbei und feiern Sie mit der 
 Schützenbruderschaft Kirmes in Lövenich!
LOCATION:Lövenich\, Kirmesplatz
X-LOCATION-NAME:Lövenich\, Kirmesplatz
X-STREET-ADDRESS:Schweizerstraße
X-ORGANIZER-NAME:St. Sebastianus Schützenbruderschaft Lövenich 1400 e.V.
X-IONAS-CATEGORY:Brauchtum/ Kirmes
CATEGORIES:Brauchtum/ Kirmes,Austausch,Fest,Musik
ATTACH;FMTTYPE=image/jpeg:https://www.erkelenz.de/kalender/schuetzenwesen
 /2026-05-23-schuetzenfest-in-loevenich/652234-drummer-2544593-schuetzenf
 est.jpg?cid=rmz.4k41
UID:755b40f1-5e49-4548-8a64-931f55567205
END:VEVENT
END:VCALENDAR
