BEGIN:VCALENDAR
PRODID:-//IONAS//TVM//DE
VERSION:2.0
CALSCALE:GREGORIAN
BEGIN:VTIMEZONE
TZID:Europe/Berlin
LAST-MODIFIED:20201010T011803Z
TZURL:http://tzurl.org/zoneinfo/Europe/Berlin
X-LIC-LOCATION:Europe/Berlin
X-PROLEPTIC-TZNAME:LMT
BEGIN:STANDARD
TZNAME:CET
TZOFFSETFROM:+005328
TZOFFSETTO:+0100
DTSTART:18930401T000000
END:STANDARD
BEGIN:DAYLIGHT
TZNAME:CEST
TZOFFSETFROM:+0100
TZOFFSETTO:+0200
DTSTART:19160430T230000
RDATE:19400401T020000
RDATE:19430329T020000
RDATE:19460414T020000
RDATE:19470406T030000
RDATE:19480418T020000
RDATE:19490410T020000
RDATE:19800406T020000
END:DAYLIGHT
BEGIN:STANDARD
TZNAME:CET
TZOFFSETFROM:+0200
TZOFFSETTO:+0100
DTSTART:19161001T010000
RDATE:19421102T030000
RDATE:19431004T030000
RDATE:19441002T030000
RDATE:19451118T030000
RDATE:19461007T030000
END:STANDARD
BEGIN:DAYLIGHT
TZNAME:CEST
TZOFFSETFROM:+0100
TZOFFSETTO:+0200
DTSTART:19170416T020000
RRULE:FREQ=YEARLY;UNTIL=19180415T010000Z;BYMONTH=4;BYDAY=3MO
END:DAYLIGHT
BEGIN:STANDARD
TZNAME:CET
TZOFFSETFROM:+0200
TZOFFSETTO:+0100
DTSTART:19170917T030000
RRULE:FREQ=YEARLY;UNTIL=19180916T010000Z;BYMONTH=9;BYDAY=3MO
END:STANDARD
BEGIN:DAYLIGHT
TZNAME:CEST
TZOFFSETFROM:+0100
TZOFFSETTO:+0200
DTSTART:19440403T020000
RRULE:FREQ=YEARLY;UNTIL=19450402T010000Z;BYMONTH=4;BYDAY=1MO
END:DAYLIGHT
BEGIN:DAYLIGHT
TZNAME:CEMT
TZOFFSETFROM:+0200
TZOFFSETTO:+0300
DTSTART:19450524T020000
RDATE:19470511T030000
END:DAYLIGHT
BEGIN:DAYLIGHT
TZNAME:CEST
TZOFFSETFROM:+0300
TZOFFSETTO:+0200
DTSTART:19450924T030000
RDATE:19470629T030000
END:DAYLIGHT
BEGIN:STANDARD
TZNAME:CET
TZOFFSETFROM:+0100
TZOFFSETTO:+0100
DTSTART:19460101T000000
RDATE:19800101T000000
END:STANDARD
BEGIN:STANDARD
TZNAME:CET
TZOFFSETFROM:+0200
TZOFFSETTO:+0100
DTSTART:19471005T030000
RRULE:FREQ=YEARLY;UNTIL=19491002T010000Z;BYMONTH=10;BYDAY=1SU
END:STANDARD
BEGIN:STANDARD
TZNAME:CET
TZOFFSETFROM:+0200
TZOFFSETTO:+0100
DTSTART:19800928T030000
RRULE:FREQ=YEARLY;UNTIL=19950924T010000Z;BYMONTH=9;BYDAY=-1SU
END:STANDARD
BEGIN:DAYLIGHT
TZNAME:CEST
TZOFFSETFROM:+0100
TZOFFSETTO:+0200
DTSTART:19810329T020000
RRULE:FREQ=YEARLY;BYMONTH=3;BYDAY=-1SU
END:DAYLIGHT
BEGIN:STANDARD
TZNAME:CET
TZOFFSETFROM:+0200
TZOFFSETTO:+0100
DTSTART:19961027T030000
RRULE:FREQ=YEARLY;BYMONTH=10;BYDAY=-1SU
END:STANDARD
END:VTIMEZONE
BEGIN:VEVENT
DTSTAMP:20260420T000857Z
DTSTART;TZID=Europe/Berlin:20260526T100000
DTEND;TZID=Europe/Berlin:20260526T120000
SUMMARY:Plauderbank Erkelenz
CREATED:20260317T143253Z
LAST-MODIFIED:20260317T143943Z
DESCRIPTION:Die Plauderbank – Ihr wöchentlicher Treffpunkt am Dienstag!\n
 \n\n\n\nJeden Dienstag von 10:00 bis 12:00 Uhr lädt die Plauderbank auf 
 dem Franziskanerplatz (direkt neben der Stadthalle) zum offenen Austausc
 h ein. Der beliebte Treffpunkt bietet Raum für Gespräche\, Begegnungen u
 nd ein herzliches Miteinander – ganz ohne Anmeldung und in entspannter A
 tmosphäre.\n\n\n\n\nOb Sie neue Kontakte knüpfen\, Bekannte treffen oder
  einfach eine kurze Auszeit vom Alltag genießen möchten: Die Plauderbank
  ist für alle Generationen offen und lebt vom persönlichen Austausch. Im
  Mittelpunkt stehen unkomplizierte Gespräche und das gemeinsame Verweile
 n in freundlicher Umgebung.\n\n\n\n\nKommen Sie vorbei\, nehmen Sie Plat
 z und genießen Sie gute Gespräche – wir freuen uns auf Ihren Besuch!
LOCATION:Franziskanerplatz
X-LOCATION-NAME:Franziskanerplatz
X-STREET-ADDRESS:Franziskanerplatz
X-POSTAL-CODE:41812
X-LOCALITY:Erkelenz
ORGANIZER;CN="S.I.E. Senioreninitiative Erkelenz e.V. ":mailto:SIE-Erkele
 nz-eV@t-online.de
X-ORGANIZER-NAME:S.I.E. Senioreninitiative Erkelenz e.V. 
X-ORGANIZER-EMAIL:SIE-Erkelenz-eV@t-online.de
URL:https://www.senioren-initiative-erkelenz.de/
X-IONAS-CATEGORY:Diverse
CATEGORIES:Diverse,Austausch,barrierefrei,Senioren
ATTACH;FMTTYPE=image/png:https://www.erkelenz.de/kalender/vereine-initiat
 iven-vhs/2026-04-14-plauderbank-erkelenz/plauderbank.png?cid=rj7.4it1
UID:f48d7512-318e-4668-9b4b-7c1e2ab917f5:2026-05-26
END:VEVENT
END:VCALENDAR
