BEGIN:VCALENDAR
PRODID:-//IONAS//TVM//DE
VERSION:2.0
CALSCALE:GREGORIAN
BEGIN:VTIMEZONE
TZID:Europe/Berlin
LAST-MODIFIED:20201010T011803Z
TZURL:http://tzurl.org/zoneinfo/Europe/Berlin
X-LIC-LOCATION:Europe/Berlin
X-PROLEPTIC-TZNAME:LMT
BEGIN:STANDARD
TZNAME:CET
TZOFFSETFROM:+005328
TZOFFSETTO:+0100
DTSTART:18930401T000000
END:STANDARD
BEGIN:DAYLIGHT
TZNAME:CEST
TZOFFSETFROM:+0100
TZOFFSETTO:+0200
DTSTART:19160430T230000
RDATE:19400401T020000
RDATE:19430329T020000
RDATE:19460414T020000
RDATE:19470406T030000
RDATE:19480418T020000
RDATE:19490410T020000
RDATE:19800406T020000
END:DAYLIGHT
BEGIN:STANDARD
TZNAME:CET
TZOFFSETFROM:+0200
TZOFFSETTO:+0100
DTSTART:19161001T010000
RDATE:19421102T030000
RDATE:19431004T030000
RDATE:19441002T030000
RDATE:19451118T030000
RDATE:19461007T030000
END:STANDARD
BEGIN:DAYLIGHT
TZNAME:CEST
TZOFFSETFROM:+0100
TZOFFSETTO:+0200
DTSTART:19170416T020000
RRULE:FREQ=YEARLY;UNTIL=19180415T010000Z;BYMONTH=4;BYDAY=3MO
END:DAYLIGHT
BEGIN:STANDARD
TZNAME:CET
TZOFFSETFROM:+0200
TZOFFSETTO:+0100
DTSTART:19170917T030000
RRULE:FREQ=YEARLY;UNTIL=19180916T010000Z;BYMONTH=9;BYDAY=3MO
END:STANDARD
BEGIN:DAYLIGHT
TZNAME:CEST
TZOFFSETFROM:+0100
TZOFFSETTO:+0200
DTSTART:19440403T020000
RRULE:FREQ=YEARLY;UNTIL=19450402T010000Z;BYMONTH=4;BYDAY=1MO
END:DAYLIGHT
BEGIN:DAYLIGHT
TZNAME:CEMT
TZOFFSETFROM:+0200
TZOFFSETTO:+0300
DTSTART:19450524T020000
RDATE:19470511T030000
END:DAYLIGHT
BEGIN:DAYLIGHT
TZNAME:CEST
TZOFFSETFROM:+0300
TZOFFSETTO:+0200
DTSTART:19450924T030000
RDATE:19470629T030000
END:DAYLIGHT
BEGIN:STANDARD
TZNAME:CET
TZOFFSETFROM:+0100
TZOFFSETTO:+0100
DTSTART:19460101T000000
RDATE:19800101T000000
END:STANDARD
BEGIN:STANDARD
TZNAME:CET
TZOFFSETFROM:+0200
TZOFFSETTO:+0100
DTSTART:19471005T030000
RRULE:FREQ=YEARLY;UNTIL=19491002T010000Z;BYMONTH=10;BYDAY=1SU
END:STANDARD
BEGIN:STANDARD
TZNAME:CET
TZOFFSETFROM:+0200
TZOFFSETTO:+0100
DTSTART:19800928T030000
RRULE:FREQ=YEARLY;UNTIL=19950924T010000Z;BYMONTH=9;BYDAY=-1SU
END:STANDARD
BEGIN:DAYLIGHT
TZNAME:CEST
TZOFFSETFROM:+0100
TZOFFSETTO:+0200
DTSTART:19810329T020000
RRULE:FREQ=YEARLY;BYMONTH=3;BYDAY=-1SU
END:DAYLIGHT
BEGIN:STANDARD
TZNAME:CET
TZOFFSETFROM:+0200
TZOFFSETTO:+0100
DTSTART:19961027T030000
RRULE:FREQ=YEARLY;BYMONTH=10;BYDAY=-1SU
END:STANDARD
END:VTIMEZONE
BEGIN:VEVENT
DTSTAMP:20260421T192255Z
DTSTART;TZID=Europe/Berlin:20260529T190000
DTEND;TZID=Europe/Berlin:20260529T200000
SUMMARY:Schützenfest Gerderhahn
CREATED:20260421T085456Z
LAST-MODIFIED:20260421T090118Z
DESCRIPTION:Mit dem Schützenfest in Gerderhahn startet die St. Stephanus 
 Schützenbruderschaft Gerderhahn am Freitag\, 29. Mai 2026\, in ein festl
 iches Wochenende. \n\n\n\n\nUm 19 Uhr beginnt der Abend mit dem Setzen d
 er Ehrenmaien an der Mehrzweckhalle und dem traditionellen Kirmes-Openin
 g. Damit wird der Auftakt für drei Tage voller Brauchtum\, Musik und ges
 elligem Beisammensein gesetzt. Der Freitag bietet den passenden Rahmen\,
  um gemeinsam in das Schützenfest zu starten und die besondere Atmosphär
 e in Gerderhahn zu erleben.\n\n\nEintritt: Kostenfrei\n\n\nKommen Sie vo
 rbei und feiern Sie mit der Schützenbruderschaft Gerderhahn den Auftakt 
 des Schützenfests 2026!
LOCATION:Mehrzweckhalle Gerderhahn
X-LOCATION-NAME:Mehrzweckhalle Gerderhahn
X-STREET-ADDRESS: In Gerderhahn 63
X-POSTAL-CODE:41812
X-LOCALITY:Erkelenz
X-ORGANIZER-NAME:St. Stephanus Schützenbruderschaft Gerderhahn
X-IONAS-CATEGORY:Brauchtum/ Kirmes
CATEGORIES:Brauchtum/ Kirmes,Austausch,Fest,Kirmes,Musik
ATTACH;FMTTYPE=image/jpeg:https://www.erkelenz.de/kalender/vereine-initia
 tiven-vhs/2026-05-29-schuetzenfest-gerderhahn/kirmes-gerderhahn-2026.jpg
 ?cid=rp7.4kv3
UID:4bf117a5-978d-4356-bd75-750dc1ff6c78:2026-05-29
END:VEVENT
END:VCALENDAR
