BEGIN:VCALENDAR
PRODID:-//Ben Fortuna//iCal4j 1.0//EN
VERSION:2.0
CALSCALE:GREGORIAN
BEGIN:VTIMEZONE
TZID:Europe/Berlin
LAST-MODIFIED:20201010T011803Z
TZURL:http://tzurl.org/zoneinfo/Europe/Berlin
X-LIC-LOCATION:Europe/Berlin
X-PROLEPTIC-TZNAME:LMT
BEGIN:STANDARD
TZNAME:CET
TZOFFSETFROM:+005328
TZOFFSETTO:+0100
DTSTART:18930401T000000
END:STANDARD
BEGIN:DAYLIGHT
TZNAME:CEST
TZOFFSETFROM:+0100
TZOFFSETTO:+0200
DTSTART:19160430T230000
RDATE:19400401T020000
RDATE:19430329T020000
RDATE:19460414T020000
RDATE:19470406T030000
RDATE:19480418T020000
RDATE:19490410T020000
RDATE:19800406T020000
END:DAYLIGHT
BEGIN:STANDARD
TZNAME:CET
TZOFFSETFROM:+0200
TZOFFSETTO:+0100
DTSTART:19161001T010000
RDATE:19421102T030000
RDATE:19431004T030000
RDATE:19441002T030000
RDATE:19451118T030000
RDATE:19461007T030000
END:STANDARD
BEGIN:DAYLIGHT
TZNAME:CEST
TZOFFSETFROM:+0100
TZOFFSETTO:+0200
DTSTART:19170416T020000
RRULE:FREQ=YEARLY;UNTIL=19180415T010000Z;BYMONTH=4;BYDAY=3MO
END:DAYLIGHT
BEGIN:STANDARD
TZNAME:CET
TZOFFSETFROM:+0200
TZOFFSETTO:+0100
DTSTART:19170917T030000
RRULE:FREQ=YEARLY;UNTIL=19180916T010000Z;BYMONTH=9;BYDAY=3MO
END:STANDARD
BEGIN:DAYLIGHT
TZNAME:CEST
TZOFFSETFROM:+0100
TZOFFSETTO:+0200
DTSTART:19440403T020000
RRULE:FREQ=YEARLY;UNTIL=19450402T010000Z;BYMONTH=4;BYDAY=1MO
END:DAYLIGHT
BEGIN:DAYLIGHT
TZNAME:CEMT
TZOFFSETFROM:+0200
TZOFFSETTO:+0300
DTSTART:19450524T020000
RDATE:19470511T030000
END:DAYLIGHT
BEGIN:DAYLIGHT
TZNAME:CEST
TZOFFSETFROM:+0300
TZOFFSETTO:+0200
DTSTART:19450924T030000
RDATE:19470629T030000
END:DAYLIGHT
BEGIN:STANDARD
TZNAME:CET
TZOFFSETFROM:+0100
TZOFFSETTO:+0100
DTSTART:19460101T000000
RDATE:19800101T000000
END:STANDARD
BEGIN:STANDARD
TZNAME:CET
TZOFFSETFROM:+0200
TZOFFSETTO:+0100
DTSTART:19471005T030000
RRULE:FREQ=YEARLY;UNTIL=19491002T010000Z;BYMONTH=10;BYDAY=1SU
END:STANDARD
BEGIN:STANDARD
TZNAME:CET
TZOFFSETFROM:+0200
TZOFFSETTO:+0100
DTSTART:19800928T030000
RRULE:FREQ=YEARLY;UNTIL=19950924T010000Z;BYMONTH=9;BYDAY=-1SU
END:STANDARD
BEGIN:DAYLIGHT
TZNAME:CEST
TZOFFSETFROM:+0100
TZOFFSETTO:+0200
DTSTART:19810329T020000
RRULE:FREQ=YEARLY;BYMONTH=3;BYDAY=-1SU
END:DAYLIGHT
BEGIN:STANDARD
TZNAME:CET
TZOFFSETFROM:+0200
TZOFFSETTO:+0100
DTSTART:19961027T030000
RRULE:FREQ=YEARLY;BYMONTH=10;BYDAY=-1SU
END:STANDARD
END:VTIMEZONE
BEGIN:VEVENT
DTSTAMP:20260422T232721Z
DTSTART;TZID=Europe/Berlin:20260530T140000
DTEND;TZID=Europe/Berlin:20260530T150000
SUMMARY:Dorfkindparty & Kirmes Gerderhahn
CREATED:20260421T090210Z
LAST-MODIFIED:20260422T112028Z
DESCRIPTION:Der Samstag\, 30. Mai 2026\, steht in Gerderhahn ganz im Zeic
 hen des Familientags anlässlich des Schützenfests. \n\n\n\n\nAb 14 Uhr e
 rwartet Familien auf dem Gelände an der Mehrzweckhalle ein buntes Progra
 mm mit Spiel und Spaß für Groß und Klein. Geplant sind unter anderem ein
 e Zauber- und Ballonkünstlerin\, Hüpfburg\, Entenangeln und Kinderschmin
 ken. Ab 16:30 Uhr sorgt zudem ein Biergartenkonzert mit dem Musikverein 
 Erkelenz für musikalische Stimmung. Dazu gibt es Cafeteria und Grill sow
 ie den Vogelschuss und die beliebte Dorfkindparty.\n\n\nEintritt: Kosten
 frei\n\n\nKommen Sie mit der ganzen Familie vorbei und erleben Sie einen
  abwechslungsreichen Tag in Gerderhahn!
LOCATION:Mehrzweckhalle Gerderhahn
X-LOCATION-NAME:Mehrzweckhalle Gerderhahn
X-STREET-ADDRESS: In Gerderhahn 63
X-POSTAL-CODE:41812
X-LOCALITY:Erkelenz
X-ORGANIZER-NAME:St. Hubertus Schützebruderschaft Gerderhahn 
X-IONAS-CATEGORY:Brauchtum/ Kirmes
CATEGORIES:Brauchtum/ Kirmes,Fest,Kirmes,Musik,Kinder
ATTACH;FMTTYPE=image/jpeg:https://www.erkelenz.de/kalender/vereine-initia
 tiven-vhs/2026-05-30-dorfkindparty-kirmes-gerderhahn/gerderhahn-familien
 tag-2026.jpg?cid=rp9.4kvr
UID:d9130872-7f95-4d24-a549-192a3f764266
END:VEVENT
END:VCALENDAR
