BEGIN:VCALENDAR
PRODID:-//IONAS//TVM//DE
VERSION:2.0
CALSCALE:GREGORIAN
BEGIN:VTIMEZONE
TZID:Europe/Berlin
LAST-MODIFIED:20201010T011803Z
TZURL:http://tzurl.org/zoneinfo/Europe/Berlin
X-LIC-LOCATION:Europe/Berlin
X-PROLEPTIC-TZNAME:LMT
BEGIN:STANDARD
TZNAME:CET
TZOFFSETFROM:+005328
TZOFFSETTO:+0100
DTSTART:18930401T000000
END:STANDARD
BEGIN:DAYLIGHT
TZNAME:CEST
TZOFFSETFROM:+0100
TZOFFSETTO:+0200
DTSTART:19160430T230000
RDATE:19400401T020000
RDATE:19430329T020000
RDATE:19460414T020000
RDATE:19470406T030000
RDATE:19480418T020000
RDATE:19490410T020000
RDATE:19800406T020000
END:DAYLIGHT
BEGIN:STANDARD
TZNAME:CET
TZOFFSETFROM:+0200
TZOFFSETTO:+0100
DTSTART:19161001T010000
RDATE:19421102T030000
RDATE:19431004T030000
RDATE:19441002T030000
RDATE:19451118T030000
RDATE:19461007T030000
END:STANDARD
BEGIN:DAYLIGHT
TZNAME:CEST
TZOFFSETFROM:+0100
TZOFFSETTO:+0200
DTSTART:19170416T020000
RRULE:FREQ=YEARLY;UNTIL=19180415T010000Z;BYMONTH=4;BYDAY=3MO
END:DAYLIGHT
BEGIN:STANDARD
TZNAME:CET
TZOFFSETFROM:+0200
TZOFFSETTO:+0100
DTSTART:19170917T030000
RRULE:FREQ=YEARLY;UNTIL=19180916T010000Z;BYMONTH=9;BYDAY=3MO
END:STANDARD
BEGIN:DAYLIGHT
TZNAME:CEST
TZOFFSETFROM:+0100
TZOFFSETTO:+0200
DTSTART:19440403T020000
RRULE:FREQ=YEARLY;UNTIL=19450402T010000Z;BYMONTH=4;BYDAY=1MO
END:DAYLIGHT
BEGIN:DAYLIGHT
TZNAME:CEMT
TZOFFSETFROM:+0200
TZOFFSETTO:+0300
DTSTART:19450524T020000
RDATE:19470511T030000
END:DAYLIGHT
BEGIN:DAYLIGHT
TZNAME:CEST
TZOFFSETFROM:+0300
TZOFFSETTO:+0200
DTSTART:19450924T030000
RDATE:19470629T030000
END:DAYLIGHT
BEGIN:STANDARD
TZNAME:CET
TZOFFSETFROM:+0100
TZOFFSETTO:+0100
DTSTART:19460101T000000
RDATE:19800101T000000
END:STANDARD
BEGIN:STANDARD
TZNAME:CET
TZOFFSETFROM:+0200
TZOFFSETTO:+0100
DTSTART:19471005T030000
RRULE:FREQ=YEARLY;UNTIL=19491002T010000Z;BYMONTH=10;BYDAY=1SU
END:STANDARD
BEGIN:STANDARD
TZNAME:CET
TZOFFSETFROM:+0200
TZOFFSETTO:+0100
DTSTART:19800928T030000
RRULE:FREQ=YEARLY;UNTIL=19950924T010000Z;BYMONTH=9;BYDAY=-1SU
END:STANDARD
BEGIN:DAYLIGHT
TZNAME:CEST
TZOFFSETFROM:+0100
TZOFFSETTO:+0200
DTSTART:19810329T020000
RRULE:FREQ=YEARLY;BYMONTH=3;BYDAY=-1SU
END:DAYLIGHT
BEGIN:STANDARD
TZNAME:CET
TZOFFSETFROM:+0200
TZOFFSETTO:+0100
DTSTART:19961027T030000
RRULE:FREQ=YEARLY;BYMONTH=10;BYDAY=-1SU
END:STANDARD
END:VTIMEZONE
BEGIN:VEVENT
DTSTAMP:20260424T205148Z
DTSTART;TZID=Europe/Berlin:20260531T160000
DTEND;TZID=Europe/Berlin:20260531T170000
SUMMARY:Schützenfest Gerderhahn
CREATED:20260421T092131Z
LAST-MODIFIED:20260422T112052Z
DESCRIPTION:Festsonntag in Gerderhahn\n\n\n\n\nDer Sonntag\, 31. Mai 2026
 \, bildet den festlichen Höhepunkt des Schützenfests in Gerderhahn. \n\n
 \n\n\nAb 8:45 Uhr treten die Schützen an\, bevor um 9 Uhr die Heilige Me
 sse in der Kirche gefeiert wird. Anschließend folgen die Gefallenenehrun
 g\, die Parade am Ehrenmal und der Frühschoppen. Am Nachmittag werden ab
  16 Uhr die auswärtigen Gäste empfangen\, bevor um 16:50 Uhr der Festzug
  durch den Ort startet. Mit der Parade am Gedenkstein auf dem Paulusweg 
 sowie dem anschließenden Königs- und Klompenball mit DJ Phil-Good klingt
  der Tag stimmungsvoll aus. Für die Verpflegung sorgt der Pizzawagen.\n\
 n\nEintritt: Kostenfrei\n\n\nErleben Sie den Festsonntag in Gerderhahn u
 nd feiern Sie mit der Schützenbruderschaft einen traditionsreichen Tag!
LOCATION:Mehrzweckhalle Gerderhahn
X-LOCATION-NAME:Mehrzweckhalle Gerderhahn
X-STREET-ADDRESS: In Gerderhahn 63
X-POSTAL-CODE:41812
X-LOCALITY:Erkelenz
X-ORGANIZER-NAME:St. Hubertus Schützebruderschaft Gerderhahn 
X-IONAS-CATEGORY:Brauchtum/ Kirmes
CATEGORIES:Brauchtum/ Kirmes,Austausch,Fest,Kirmes,Musik
ATTACH;FMTTYPE=image/jpeg:https://www.erkelenz.de/kalender/vereine-initia
 tiven-vhs/2026-05-31-schuetzenfest-gerderhahn/kirmes-gerderhahn-2026.jpg
 ?cid=rp7.4kvx
UID:20b29060-0974-442f-b3f0-d8e18dbbd3d5:2026-05-31
END:VEVENT
END:VCALENDAR
